BEGIN:VCALENDAR
VERSION:2.0
PRODID:-//Australian Bridge Federation - ECPv6.15.17//NONSGML v1.0//EN
CALSCALE:GREGORIAN
METHOD:PUBLISH
X-ORIGINAL-URL:https://www.abf.com.au
X-WR-CALDESC:Events for Australian Bridge Federation
REFRESH-INTERVAL;VALUE=DURATION:PT1H
X-Robots-Tag:noindex
X-PUBLISHED-TTL:PT1H
BEGIN:VTIMEZONE
TZID:Asia/Kolkata
BEGIN:STANDARD
TZOFFSETFROM:+0530
TZOFFSETTO:+0530
TZNAME:IST
DTSTART:20250101T000000
END:STANDARD
END:VTIMEZONE
BEGIN:VTIMEZONE
TZID:Australia/Melbourne
BEGIN:STANDARD
TZOFFSETFROM:+1100
TZOFFSETTO:+1000
TZNAME:AEST
DTSTART:20250405T160000
END:STANDARD
BEGIN:DAYLIGHT
TZOFFSETFROM:+1000
TZOFFSETTO:+1100
TZNAME:AEDT
DTSTART:20251004T160000
END:DAYLIGHT
BEGIN:STANDARD
TZOFFSETFROM:+1100
TZOFFSETTO:+1000
TZNAME:AEST
DTSTART:20260404T160000
END:STANDARD
BEGIN:DAYLIGHT
TZOFFSETFROM:+1000
TZOFFSETTO:+1100
TZNAME:AEDT
DTSTART:20261003T160000
END:DAYLIGHT
BEGIN:STANDARD
TZOFFSETFROM:+1100
TZOFFSETTO:+1000
TZNAME:AEST
DTSTART:20270403T160000
END:STANDARD
BEGIN:DAYLIGHT
TZOFFSETFROM:+1000
TZOFFSETTO:+1100
TZNAME:AEDT
DTSTART:20271002T160000
END:DAYLIGHT
END:VTIMEZONE
BEGIN:VTIMEZONE
TZID:Pacific/Auckland
BEGIN:STANDARD
TZOFFSETFROM:+1300
TZOFFSETTO:+1200
TZNAME:NZST
DTSTART:20250405T140000
END:STANDARD
BEGIN:DAYLIGHT
TZOFFSETFROM:+1200
TZOFFSETTO:+1300
TZNAME:NZDT
DTSTART:20250927T140000
END:DAYLIGHT
BEGIN:STANDARD
TZOFFSETFROM:+1300
TZOFFSETTO:+1200
TZNAME:NZST
DTSTART:20260404T140000
END:STANDARD
BEGIN:DAYLIGHT
TZOFFSETFROM:+1200
TZOFFSETTO:+1300
TZNAME:NZDT
DTSTART:20260926T140000
END:DAYLIGHT
BEGIN:STANDARD
TZOFFSETFROM:+1300
TZOFFSETTO:+1200
TZNAME:NZST
DTSTART:20270403T140000
END:STANDARD
BEGIN:DAYLIGHT
TZOFFSETFROM:+1200
TZOFFSETTO:+1300
TZNAME:NZDT
DTSTART:20270925T140000
END:DAYLIGHT
END:VTIMEZONE
BEGIN:VEVENT
DTSTART;VALUE=DATE:20260621
DTEND;VALUE=DATE:20260628
DTSTAMP:20260420T171545
CREATED:20250911T034312Z
LAST-MODIFIED:20251206T234330Z
UID:23921-1782000000-1782604799@www.abf.com.au
SUMMARY:2026 Asia Cup
DESCRIPTION:The Bridge Federation of India cordially invites all member NBOs from Zones 4\, 6\, and 7 to participate in the 5th Asia Cup Bridge Championships\, to be held from 21st to 27th June 2026 at Taj Cidade de Goa Horizon\, Goa\, India. \nParticipation Guidelines \n\nEach NBO may field one (1) team in Men\, Women\, Mixed\, and Senior categories.\nThe host NBO (India) will be eligible to field two (2) teams in each category.\nFor all events\, each eligible NBO\, other than the host country\, may enter a maximum of two (2) teams.\n\nFirst preference will be given to one team per country.\nRemaining slots will be allocated on a first-come\, first-served basis\, subject to a maximum of 16 teams in each category.\n\n\n\nDates & Venue \n\nDates: June 21 (Saturday) – June 27 (Friday)\, 2026\nVenue: Taj Cidade de Goa Horizon\, Goa\n\nEvent Website: https://bonusasiacup2026.com/ (to be active from 1st January 2026)
URL:https://www.abf.com.au/event/2026-asia-cup/
LOCATION:Taj Cidade de Goa Horizon\, Dona Paula\, Vainguinim Plateau\, Panaji\, Goa\, 403004\, India
CATEGORIES:Australian Rep Team,International Events
ATTACH;FMTTYPE=image/jpeg:https://www.abf.com.au/wp-content/uploads/2013/08/apbf-logo.jpg
END:VEVENT
BEGIN:VEVENT
DTSTART;VALUE=DATE:20260802
DTEND;VALUE=DATE:20260809
DTSTAMP:20260420T171545
CREATED:20251224T001856Z
LAST-MODIFIED:20251224T221759Z
UID:24375-1785628800-1786233599@www.abf.com.au
SUMMARY:2026 World Youth Transnational Championships
DESCRIPTION:Hefei
URL:https://www.abf.com.au/event/2026-world-youth-transnational-championships/
CATEGORIES:Australian Rep Team,International Events
ATTACH;FMTTYPE=image/gif:https://www.abf.com.au/wp-content/uploads/2013/03/wbf_small.gif
END:VEVENT
BEGIN:VEVENT
DTSTART;VALUE=DATE:20260805
DTEND;VALUE=DATE:20260810
DTSTAMP:20260420T171545
CREATED:20260221T214149Z
LAST-MODIFIED:20260222T214829Z
UID:24650-1785888000-1786319999@www.abf.com.au
SUMMARY:2026 Hong Kong Inter-City Bridge Championships
DESCRIPTION:This year marks an important milestone for the Hong Kong Contract Bridge Association celebrating its 75th Anniversary. As part of their anniversary year\, they will continue their long‑standing tradition of hosting the annual Inter-City Bridge Championships.\nThe 2026 Championships will be held from 5 to 9 August 2026 at the Regal Kowloon Hotel\, conveniently located in Tsim Sha Tsui East with excellent access to transport\, shopping\, and cultural attractions. This year’s five‑day program features a full slate of competitive events\, including the Teams Round Robins\, Play-offs\, and a variety of pairs and teams competitions\, culminating in the Closing Ceremony & Victory Banquet on 9 August.
URL:https://www.abf.com.au/event/2026-hong-kong-inter-city-bridge-championships/
LOCATION:Regal Kowloon Hotel\, 71 Mody Rd\, Tsim Sha Tsui East\, Hong Kong\, China
CATEGORIES:International Events
ATTACH;FMTTYPE=image/png:https://www.abf.com.au/wp-content/uploads/2026/02/intercity.png
ORGANIZER;CN="Doris Lo":MAILTO:intercity@hkcba.org
END:VEVENT
BEGIN:VEVENT
DTSTART;VALUE=DATE:20260820
DTEND;VALUE=DATE:20260904
DTSTAMP:20260420T171545
CREATED:20251223T224449Z
LAST-MODIFIED:20260223T223631Z
UID:24370-1787184000-1788479999@www.abf.com.au
SUMMARY:2026 World Bridge Series
DESCRIPTION:
URL:https://www.abf.com.au/event/2026-world-bridge-series/
LOCATION:MCK – International Congress Centre\, plac Sławika i Antalla 1\, 40-163\, Katowice\, Poland
CATEGORIES:Australian Rep Team,International Events
ATTACH;FMTTYPE=image/gif:https://www.abf.com.au/wp-content/uploads/2013/03/wbf_small.gif
END:VEVENT
BEGIN:VEVENT
DTSTART;TZID=Pacific/Auckland:20261107T094500
DTEND;TZID=Pacific/Auckland:20261114T170000
DTSTAMP:20260420T171545
CREATED:20251013T001053Z
LAST-MODIFIED:20260310T020414Z
UID:24026-1794044700-1794675600@www.abf.com.au
SUMMARY:2026 NZ National Congress
DESCRIPTION:Note: Additional venue this year – Distinction Hotel\, 175 Cuba St. Only 350m from the Function Centre.
URL:https://www.abf.com.au/event/2026-nz-national-congress/
LOCATION:Palmerston North Function and Conference Centre\, 354 Main Street\, Palmerston North\, New Zealand
CATEGORIES:International Events
ATTACH;FMTTYPE=image/png:https://www.abf.com.au/wp-content/uploads/2023/03/nzbridgelogo.png
ORGANIZER;CN="Bridget Hannaway":MAILTO:bridget@nzbridge.co.nz
END:VEVENT
END:VCALENDAR